BEGIN:VCALENDAR
METHOD:REQUEST
PRODID:-//events.orgNONSGML ical.net 4.0//EN
VERSION:2.0
BEGIN:VEVENT
DTEND;VALUE=DATE:20260506
DTSTAMP:20260421T095415Z
DTSTART;VALUE=DATE:20260506
LOCATION:Lyric Hyperion\, Los Angeles
ORGANIZER;CN=:mailto:events@events.org
SEQUENCE:0
SUMMARY:Netflix Is A Joke Presents: Mandal
UID:becc50cf-0b56-4743-b2d5-18384a97dfd1
URL:https://events.org/e/Netflix-Is-A-Joke-Presents-Mandal/XDABJ2CQ
BEGIN:VALARM
ACTION:DISPLAY
SUMMARY:Reminder
TRIGGER:-P1D
END:VALARM
END:VEVENT
END:VCALENDAR
