BEGIN:VCALENDAR
METHOD:REQUEST
PRODID:-//events.orgNONSGML ical.net 4.0//EN
VERSION:2.0
BEGIN:VEVENT
DTEND;VALUE=DATE:20260514
DTSTAMP:20260423T133506Z
DTSTART;VALUE=DATE:20260514
LOCATION:Crescent Ballroom\, Phoenix
ORGANIZER;CN=:mailto:events@events.org
SEQUENCE:0
SUMMARY:THE MOTH: I GOT IT FROM MY MAMA
UID:b1f93eb5-7634-49f6-91d6-759564ef7f3d
URL:https://events.org/e/THE-MOTH-I-GOT-IT-FROM-MY-MAMA/9TA6GMMT
BEGIN:VALARM
ACTION:DISPLAY
SUMMARY:Reminder
TRIGGER:-P1D
END:VALARM
END:VEVENT
END:VCALENDAR
