BEGIN:VCALENDAR
METHOD:REQUEST
PRODID:-//events.orgNONSGML ical.net 4.0//EN
VERSION:2.0
BEGIN:VEVENT
DTEND;VALUE=DATE:20260423
DTSTAMP:20260422T091310Z
DTSTART;VALUE=DATE:20260423
LOCATION:Metropolitan Opera House\, New York
ORGANIZER;CN=:mailto:events@events.org
SEQUENCE:0
SUMMARY:Eugene Onegin
UID:b32a085f-66e2-4e2f-ae85-04893d9073e5
URL:https://events.org/e/Eugene-Onegin/WG4H7EH9
BEGIN:VALARM
ACTION:DISPLAY
SUMMARY:Reminder
TRIGGER:-P1D
END:VALARM
END:VEVENT
END:VCALENDAR
