BEGIN:VCALENDAR
METHOD:REQUEST
PRODID:-//events.orgNONSGML ical.net 4.0//EN
VERSION:2.0
BEGIN:VEVENT
DTEND;VALUE=DATE:20260425
DTSTAMP:20260425T102251Z
DTSTART;VALUE=DATE:20260425
LOCATION:The Basement at Club Vinyl\, Denver
ORGANIZER;CN=:mailto:events@events.org
SEQUENCE:0
SUMMARY:Jacques Greene
UID:b4eecd3f-7a07-470c-a419-0276f36a4648
URL:https://events.org/e/Jacques-Greene/PLYOWVG4
BEGIN:VALARM
ACTION:DISPLAY
SUMMARY:Reminder
TRIGGER:-P1D
END:VALARM
END:VEVENT
END:VCALENDAR
