BEGIN:VCALENDAR
METHOD:REQUEST
PRODID:-//events.orgNONSGML ical.net 4.0//EN
VERSION:2.0
BEGIN:VEVENT
DTEND;VALUE=DATE:20260501
DTSTAMP:20260423T133643Z
DTSTART;VALUE=DATE:20260501
LOCATION:Echostage\, Washington
ORGANIZER;CN=:mailto:events@events.org
SEQUENCE:0
SUMMARY:Big Gs Outta Space Birthday Bash
UID:f7f54cc9-d89e-4395-b4d5-7314a6b9a27c
URL:https://events.org/e/Big-Gs-Outta-Space-Birthday-Bash/DQ6OFDKR
BEGIN:VALARM
ACTION:DISPLAY
SUMMARY:Reminder
TRIGGER:-P1D
END:VALARM
END:VEVENT
END:VCALENDAR
