BEGIN:VCALENDAR
METHOD:REQUEST
PRODID:-//events.orgNONSGML ical.net 4.0//EN
VERSION:2.0
BEGIN:VEVENT
DTEND;VALUE=DATE:20260523
DTSTAMP:20260422T090452Z
DTSTART;VALUE=DATE:20260523
LOCATION:Wrigley Field\, Chicago
ORGANIZER;CN=:mailto:events@events.org
SEQUENCE:0
SUMMARY:Chicago Cubs vs. Houston Astros
UID:71005c59-359b-4e95-a962-9f67015ff474
URL:https://events.org/e/Chicago-Cubs-vs-Houston-Astros/BKUSWKBU
BEGIN:VALARM
ACTION:DISPLAY
SUMMARY:Reminder
TRIGGER:-P1D
END:VALARM
END:VEVENT
END:VCALENDAR
