BEGIN:VCALENDAR
METHOD:REQUEST
PRODID:-//events.orgNONSGML ical.net 4.0//EN
VERSION:2.0
BEGIN:VEVENT
DTEND;VALUE=DATE:20261028
DTSTAMP:20260421T104219Z
DTSTART;VALUE=DATE:20261028
LOCATION:Hard Rock Cafe Miami\, Miami
ORGANIZER;CN=:mailto:events@events.org
SEQUENCE:0
SUMMARY:Ride and Dine! Hard Rock Cafe Miami and Big Bus Tours Miami
UID:bed5be3c-a2e9-45fd-9399-8bed34954af2
URL:https://events.org/e/Ride-and-Dine-Hard-Rock-Cafe-Miami-and-Big-Bu/9FE
 VIV38
BEGIN:VALARM
ACTION:DISPLAY
SUMMARY:Reminder
TRIGGER:-P1D
END:VALARM
END:VEVENT
END:VCALENDAR
