BEGIN:VCALENDAR
METHOD:REQUEST
PRODID:-//events.orgNONSGML ical.net 4.0//EN
VERSION:2.0
BEGIN:VEVENT
DTEND;VALUE=DATE:20260704
DTSTAMP:20260422T090042Z
DTSTART;VALUE=DATE:20260704
LOCATION:T-Mobile Park\, Seattle
ORGANIZER;CN=:mailto:events@events.org
SEQUENCE:0
SUMMARY:Seattle Mariners vs. Toronto Blue Jays
UID:3286e9bb-8cb1-4d31-a3a8-d7611e46962a
URL:https://events.org/e/Seattle-Mariners-vs-Toronto-Blue-Jays/EH22HR8V
BEGIN:VALARM
ACTION:DISPLAY
SUMMARY:Reminder
TRIGGER:-P1D
END:VALARM
END:VEVENT
END:VCALENDAR
