BEGIN:VCALENDAR
METHOD:REQUEST
PRODID:-//events.orgNONSGML ical.net 4.0//EN
VERSION:2.0
BEGIN:VEVENT
DTEND;VALUE=DATE:20260517
DTSTAMP:20260426T023749Z
DTSTART;VALUE=DATE:20260517
LOCATION:Neck of the Woods\, San Francisco
ORGANIZER;CN=:mailto:events@events.org
SEQUENCE:0
SUMMARY:The Besnard Lakes
UID:5b70e4f4-27bf-4d17-9603-9ef2de070492
URL:https://events.org/e/The-Besnard-Lakes/XIQF9YTU
BEGIN:VALARM
ACTION:DISPLAY
SUMMARY:Reminder
TRIGGER:-P1D
END:VALARM
END:VEVENT
END:VCALENDAR
