BEGIN:VCALENDAR
METHOD:REQUEST
PRODID:-//events.orgNONSGML ical.net 4.0//EN
VERSION:2.0
BEGIN:VEVENT
DTEND;VALUE=DATE:20260526
DTSTAMP:20260422T090541Z
DTSTART;VALUE=DATE:20260526
LOCATION:Tractor\, Seattle
ORGANIZER;CN=:mailto:events@events.org
SEQUENCE:0
SUMMARY:Songwriter Round Featuring Sabrina Saed\, Armour\, Miguel Escobar\
 , Ian Ketterer\, Kelsy Szefler (partially seated)
UID:466623eb-815c-490b-9964-83ef96ad79d7
URL:https://events.org/e/Songwriter-Round-Featuring-Sabrina-Saed-Armou/CAW
 HHML6
BEGIN:VALARM
ACTION:DISPLAY
SUMMARY:Reminder
TRIGGER:-P1D
END:VALARM
END:VEVENT
END:VCALENDAR
