BEGIN:VCALENDAR
METHOD:REQUEST
PRODID:-//events.orgNONSGML ical.net 4.0//EN
VERSION:2.0
BEGIN:VEVENT
DTEND;VALUE=DATE:20260423
DTSTAMP:20260422T091122Z
DTSTART;VALUE=DATE:20260423
LOCATION:Radio City Music Hall Tour Experience\, New York
ORGANIZER;CN=:mailto:events@events.org
SEQUENCE:0
SUMMARY:Radio City Music Hall Tour Experience
UID:04357214-7c61-42af-bf2d-3c2263b93f13
URL:https://events.org/e/Radio-City-Music-Hall-Tour-Experience/YGSUPX4D
BEGIN:VALARM
ACTION:DISPLAY
SUMMARY:Reminder
TRIGGER:-P1D
END:VALARM
END:VEVENT
END:VCALENDAR
