BEGIN:VCALENDAR
METHOD:REQUEST
PRODID:-//events.orgNONSGML ical.net 4.0//EN
VERSION:2.0
BEGIN:VEVENT
DTEND;VALUE=DATE:20260731
DTSTAMP:20260422T083631Z
DTSTART;VALUE=DATE:20260731
LOCATION:The Fillmore Philadelphia\, Philadelphia
ORGANIZER;CN=:mailto:events@events.org
SEQUENCE:0
SUMMARY:PJ Morton - Saturday Night Sunday Morning Tour
UID:c5215951-bc6d-4c6d-9789-fc3b2ad07e1e
URL:https://events.org/e/PJ-Morton---Saturday-Night-Sunday-Morning-Tour/GL
 AIIQQQ
BEGIN:VALARM
ACTION:DISPLAY
SUMMARY:Reminder
TRIGGER:-P1D
END:VALARM
END:VEVENT
END:VCALENDAR
