BEGIN:VCALENDAR
METHOD:REQUEST
PRODID:-//events.orgNONSGML ical.net 4.0//EN
VERSION:2.0
BEGIN:VEVENT
DTEND;VALUE=DATE:20260613
DTSTAMP:20260423T134551Z
DTSTART;VALUE=DATE:20260613
LOCATION:Oracle Park\, San Francisco
ORGANIZER;CN=:mailto:events@events.org
SEQUENCE:0
SUMMARY:San Francisco Giants vs Chicago Cubs: Soccer Jersey
UID:fb9cac4c-c894-4028-acbb-1b1a99110247
URL:https://events.org/e/San-Francisco-Giants-vs-Chicago-Cubs-Soccer-Jerse
 y/B2YOB8Y6
BEGIN:VALARM
ACTION:DISPLAY
SUMMARY:Reminder
TRIGGER:-P1D
END:VALARM
END:VEVENT
END:VCALENDAR
