BEGIN:VCALENDAR
METHOD:REQUEST
PRODID:-//events.orgNONSGML ical.net 4.0//EN
VERSION:2.0
BEGIN:VEVENT
DTEND;VALUE=DATE:20260516
DTSTAMP:20260423T132904Z
DTSTART;VALUE=DATE:20260516
LOCATION:Arena Theatre\, Houston
ORGANIZER;CN=:mailto:events@events.org
SEQUENCE:0
SUMMARY:Pesado: Por Siempre Tour 2026
UID:527090c0-2f5e-4f56-8888-4af0219735a0
URL:https://events.org/e/Pesado-Por-Siempre-Tour-2026/XY9E3YHG
BEGIN:VALARM
ACTION:DISPLAY
SUMMARY:Reminder
TRIGGER:-P1D
END:VALARM
END:VEVENT
END:VCALENDAR
