BEGIN:VCALENDAR
METHOD:REQUEST
PRODID:-//events.orgNONSGML ical.net 4.0//EN
VERSION:2.0
BEGIN:VEVENT
DTEND;VALUE=DATE:20260717
DTSTAMP:20260421T143716Z
DTSTART;VALUE=DATE:20260717
LOCATION:La Rumba\, Denver
ORGANIZER;CN=:mailto:events@events.org
SEQUENCE:0
SUMMARY:Ladies Night & Noche Sonidera
UID:23600a3f-65e6-44d5-87ff-416c7594b591
URL:https://events.org/e/Ladies-Night-Noche-Sonidera/DPPYLIWM
BEGIN:VALARM
ACTION:DISPLAY
SUMMARY:Reminder
TRIGGER:-P1D
END:VALARM
END:VEVENT
END:VCALENDAR
