BEGIN:VCALENDAR
METHOD:REQUEST
PRODID:-//events.orgNONSGML ical.net 4.0//EN
VERSION:2.0
BEGIN:VEVENT
DTEND;VALUE=DATE:20260709
DTSTAMP:20260421T094508Z
DTSTART;VALUE=DATE:20260709
LOCATION:The National Theatre\, Washington
ORGANIZER;CN=:mailto:events@events.org
SEQUENCE:0
SUMMARY:Beetlejuice (Touring)
UID:976e09e3-2058-48a4-a2d8-a82def7e62f4
URL:https://events.org/e/Beetlejuice-Touring/9BREG3UN
BEGIN:VALARM
ACTION:DISPLAY
SUMMARY:Reminder
TRIGGER:-P1D
END:VALARM
END:VEVENT
END:VCALENDAR
