BEGIN:VCALENDAR
METHOD:REQUEST
PRODID:-//events.orgNONSGML ical.net 4.0//EN
VERSION:2.0
BEGIN:VEVENT
DTEND;VALUE=DATE:20260524
DTSTAMP:20260422T091503Z
DTSTART;VALUE=DATE:20260524
LOCATION:Backporch Stage at House of Blues Chicago\, Chicago
ORGANIZER;CN=:mailto:events@events.org
SEQUENCE:0
SUMMARY:GKL & CircuitMOM Present: Alex Acosta\, Dani Toro\, & Doggpound
UID:c024e5f1-62b2-4889-99a9-4006725d2175
URL:https://events.org/e/GKL-CircuitMOM-Present-Alex-Acosta-Dani-Toro/FJ7V
 V89A
BEGIN:VALARM
ACTION:DISPLAY
SUMMARY:Reminder
TRIGGER:-P1D
END:VALARM
END:VEVENT
END:VCALENDAR
