BEGIN:VCALENDAR
METHOD:REQUEST
PRODID:-//events.orgNONSGML ical.net 4.0//EN
VERSION:2.0
BEGIN:VEVENT
DTEND;VALUE=DATE:20260426
DTSTAMP:20260422T084233Z
DTSTART;VALUE=DATE:20260426
LOCATION:Lunt-Fontanne Theatre\, New York
ORGANIZER;CN=:mailto:events@events.org
SEQUENCE:0
SUMMARY:Death Becomes Her
UID:224e3c15-b00f-47b6-be31-80e8de0591ae
URL:https://events.org/e/Death-Becomes-Her/Q232PREV
BEGIN:VALARM
ACTION:DISPLAY
SUMMARY:Reminder
TRIGGER:-P1D
END:VALARM
END:VEVENT
END:VCALENDAR
