BEGIN:VCALENDAR
METHOD:REQUEST
PRODID:-//events.orgNONSGML ical.net 4.0//EN
VERSION:2.0
BEGIN:VEVENT
DTEND;VALUE=DATE:20260605
DTSTAMP:20260421T104148Z
DTSTART;VALUE=DATE:20260605
LOCATION:La Rumba\, Denver
ORGANIZER;CN=:mailto:events@events.org
SEQUENCE:0
SUMMARY:Ladies Night & Noche Sonidera
UID:99046d4a-09b2-44c6-a3d7-c7791f390a4b
URL:https://events.org/e/Ladies-Night-Noche-Sonidera/PJ2MXVS7
BEGIN:VALARM
ACTION:DISPLAY
SUMMARY:Reminder
TRIGGER:-P1D
END:VALARM
END:VEVENT
END:VCALENDAR
