BEGIN:VCALENDAR
METHOD:REQUEST
PRODID:-//events.orgNONSGML ical.net 4.0//EN
VERSION:2.0
BEGIN:VEVENT
DTEND;VALUE=DATE:20260704
DTSTAMP:20260422T091514Z
DTSTART;VALUE=DATE:20260704
LOCATION:Tractor\, Seattle
ORGANIZER;CN=:mailto:events@events.org
SEQUENCE:0
SUMMARY:4th of July Party! Rural Progess Presents: Melissa Carper\, Jontav
 ious White\, The Reverent Marigold - hosted by Alex Iverson
UID:15bc1e45-0dc6-453c-8af0-2f456b44f06d
URL:https://events.org/e/4th-of-July-Party-Rural-Progess-Presents-Meli/VPY
 P3GBN
BEGIN:VALARM
ACTION:DISPLAY
SUMMARY:Reminder
TRIGGER:-P1D
END:VALARM
END:VEVENT
END:VCALENDAR
