BEGIN:VCALENDAR
METHOD:REQUEST
PRODID:-//events.orgNONSGML ical.net 4.0//EN
VERSION:2.0
BEGIN:VEVENT
DTEND;VALUE=DATE:20260425
DTSTAMP:20260421T094355Z
DTSTART;VALUE=DATE:20260425
LOCATION:Reggies Music Joint\, Chicago
ORGANIZER;CN=:mailto:events@events.org
SEQUENCE:0
SUMMARY:The Handsome Devilz\, Fake Plastic Trees\, Strange Lounge\, DJ Dia
 mond Bo
UID:85fab605-4e89-4acc-bae0-ddcdce82675f
URL:https://events.org/e/The-Handsome-Devilz-Fake-Plastic-Trees-Strang/M2T
 GGGD2
BEGIN:VALARM
ACTION:DISPLAY
SUMMARY:Reminder
TRIGGER:-P1D
END:VALARM
END:VEVENT
END:VCALENDAR
