BEGIN:VCALENDAR
METHOD:REQUEST
PRODID:-//events.orgNONSGML ical.net 4.0//EN
VERSION:2.0
BEGIN:VEVENT
DTEND;VALUE=DATE:20260419
DTSTAMP:20260421T082425Z
DTSTART;VALUE=DATE:20260419
LOCATION:Madison Square Garden\, New York
ORGANIZER;CN=:mailto:events@events.org
SEQUENCE:0
SUMMARY:Madison Square Garden Tour Experience
UID:0a3eb741-a3e2-4b07-a3f6-b2dbe0f98136
URL:https://events.org/e/Madison-Square-Garden-Tour-Experience/NFQUDCKQ
BEGIN:VALARM
ACTION:DISPLAY
SUMMARY:Reminder
TRIGGER:-P1D
END:VALARM
END:VEVENT
END:VCALENDAR
