BEGIN:VCALENDAR
METHOD:REQUEST
PRODID:-//events.orgNONSGML ical.net 4.0//EN
VERSION:2.0
BEGIN:VEVENT
DTEND;VALUE=DATE:20260606
DTSTAMP:20260421T130324Z
DTSTART;VALUE=DATE:20260606
LOCATION:The Independent\, San Francisco
ORGANIZER;CN=:mailto:events@events.org
SEQUENCE:0
SUMMARY:Earlybirds Club
UID:78cc6b5c-0656-4a8f-859a-9bbc2367eb9d
URL:https://events.org/e/Earlybirds-Club/WW2W4FF2
BEGIN:VALARM
ACTION:DISPLAY
SUMMARY:Reminder
TRIGGER:-P1D
END:VALARM
END:VEVENT
END:VCALENDAR
