BEGIN:VCALENDAR
METHOD:REQUEST
PRODID:-//events.orgNONSGML ical.net 4.0//EN
VERSION:2.0
BEGIN:VEVENT
DTEND;VALUE=DATE:20260530
DTSTAMP:20260421T082207Z
DTSTART;VALUE=DATE:20260530
LOCATION:Brick By Brick\, San Diego
ORGANIZER;CN=:mailto:events@events.org
SEQUENCE:0
SUMMARY:Powerman 5000 with special guests
UID:4883feac-fc0a-4ddc-919f-c09a0b51ba4d
URL:https://events.org/e/Powerman-5000-with-special-guests/UYQU9XEY
BEGIN:VALARM
ACTION:DISPLAY
SUMMARY:Reminder
TRIGGER:-P1D
END:VALARM
END:VEVENT
END:VCALENDAR
