BEGIN:VCALENDAR
METHOD:REQUEST
PRODID:-//events.orgNONSGML ical.net 4.0//EN
VERSION:2.0
BEGIN:VEVENT
DTEND;VALUE=DATE:20260529
DTSTAMP:20260424T080914Z
DTSTART;VALUE=DATE:20260529
LOCATION:Orchestra Hall - IL\, Chicago
ORGANIZER;CN=:mailto:events@events.org
SEQUENCE:0
SUMMARY:Brahms\, Strauss & Ravel La valse
UID:27cc045b-1064-4535-ab99-6fca71f7977c
URL:https://events.org/e/Brahms-Strauss-Ravel-La-valse/6RBBMPWU
BEGIN:VALARM
ACTION:DISPLAY
SUMMARY:Reminder
TRIGGER:-P1D
END:VALARM
END:VEVENT
END:VCALENDAR
