BEGIN:VCALENDAR
METHOD:REQUEST
PRODID:-//events.orgNONSGML ical.net 4.0//EN
VERSION:2.0
BEGIN:VEVENT
DTEND;VALUE=DATE:20260612
DTSTAMP:20260419T142426Z
DTSTART;VALUE=DATE:20260612
LOCATION:Brooklyn Bowl Philadelphia\, Philadelphia
ORGANIZER;CN=:mailto:events@events.org
SEQUENCE:0
SUMMARY:JESSICA BAIO - The Other Side Tour
UID:01ed6ee5-94a6-4acf-b34a-c8685573d4f1
URL:https://events.org/e/JESSICA-BAIO---The-Other-Side-Tour/CSUEYWAP
BEGIN:VALARM
ACTION:DISPLAY
SUMMARY:Reminder
TRIGGER:-P1D
END:VALARM
END:VEVENT
END:VCALENDAR
