BEGIN:VCALENDAR
METHOD:REQUEST
PRODID:-//events.orgNONSGML ical.net 4.0//EN
VERSION:2.0
BEGIN:VEVENT
DTEND;VALUE=DATE:20260419
DTSTAMP:20260421T081913Z
DTSTART;VALUE=DATE:20260419
LOCATION:Belasco Theatre\, New York
ORGANIZER;CN=:mailto:events@events.org
SEQUENCE:0
SUMMARY:Maybe Happy Ending
UID:f3faf298-7c26-4d8a-b4ad-07cfd6358b34
URL:https://events.org/e/Maybe-Happy-Ending/79SP68J2
BEGIN:VALARM
ACTION:DISPLAY
SUMMARY:Reminder
TRIGGER:-P1D
END:VALARM
END:VEVENT
END:VCALENDAR
