BEGIN:VCALENDAR
METHOD:REQUEST
PRODID:-//events.orgNONSGML ical.net 4.0//EN
VERSION:2.0
BEGIN:VEVENT
DTEND;VALUE=DATE:20260515
DTSTAMP:20260419T132046Z
DTSTART;VALUE=DATE:20260515
LOCATION:South Side Music Hall\, Dallas
ORGANIZER;CN=:mailto:events@events.org
SEQUENCE:0
SUMMARY:A Static Lullaby
UID:746025eb-69fe-4f43-aa8a-9d0b9f7a0d57
URL:https://events.org/e/A-Static-Lullaby/655CDYU3
BEGIN:VALARM
ACTION:DISPLAY
SUMMARY:Reminder
TRIGGER:-P1D
END:VALARM
END:VEVENT
END:VCALENDAR
