BEGIN:VCALENDAR
METHOD:REQUEST
PRODID:-//events.orgNONSGML ical.net 4.0//EN
VERSION:2.0
BEGIN:VEVENT
DTEND;VALUE=DATE:20260527
DTSTAMP:20260419T142951Z
DTSTART;VALUE=DATE:20260527
LOCATION:Tabernacle\, Atlanta
ORGANIZER;CN=:mailto:events@events.org
SEQUENCE:0
SUMMARY:James Blake - Trying Times Tour
UID:ec8c2777-1187-4d82-8fa2-7acb8642c02a
URL:https://events.org/e/James-Blake---Trying-Times-Tour/RK48NN4E
BEGIN:VALARM
ACTION:DISPLAY
SUMMARY:Reminder
TRIGGER:-P1D
END:VALARM
END:VEVENT
END:VCALENDAR
