BEGIN:VCALENDAR
METHOD:REQUEST
PRODID:-//events.orgNONSGML ical.net 4.0//EN
VERSION:2.0
BEGIN:VEVENT
DTEND;VALUE=DATE:20260613
DTSTAMP:20260421T133005Z
DTSTART;VALUE=DATE:20260613
LOCATION:MIDFLORIDA Credit Union Amphitheatre at the FL State Fairgrounds\
 , Tampa
ORGANIZER;CN=:mailto:events@events.org
SEQUENCE:0
SUMMARY:Kali Uchis: For The Girls Tour with special guest Mariah The Scien
 tist
UID:968d5b5d-cb7e-4425-a1fb-d3983adf6f4a
URL:https://events.org/e/Kali-Uchis-For-The-Girls-Tour-with-special-gu/82U
 C3CG7
BEGIN:VALARM
ACTION:DISPLAY
SUMMARY:Reminder
TRIGGER:-P1D
END:VALARM
END:VEVENT
END:VCALENDAR
