BEGIN:VCALENDAR
METHOD:REQUEST
PRODID:-//events.orgNONSGML ical.net 4.0//EN
VERSION:2.0
BEGIN:VEVENT
DTEND;VALUE=DATE:20260429
DTSTAMP:20260424T080545Z
DTSTART;VALUE=DATE:20260429
LOCATION:South Side Studios\, Dallas
ORGANIZER;CN=:mailto:events@events.org
SEQUENCE:0
SUMMARY:Balloon Museum | Let's Fly - Art Has No Limits - Dallas
UID:b82cc7ad-940c-408e-a8cf-1a9c775f20d7
URL:https://events.org/e/Balloon-Museum-Lets-Fly---Art-Has-No-Limits--/4Q7
 2KLOL
BEGIN:VALARM
ACTION:DISPLAY
SUMMARY:Reminder
TRIGGER:-P1D
END:VALARM
END:VEVENT
END:VCALENDAR
