BEGIN:VCALENDAR
METHOD:REQUEST
PRODID:-//events.orgNONSGML ical.net 4.0//EN
VERSION:2.0
BEGIN:VEVENT
DTEND;VALUE=DATE:20260426
DTSTAMP:20260422T084652Z
DTSTART;VALUE=DATE:20260426
LOCATION:Cricket's Candy Creations\, New York
ORGANIZER;CN=:mailto:events@events.org
SEQUENCE:0
SUMMARY:Candy Crafting at Cricket's Candy Creations
UID:ce805790-68be-4d34-bc88-157fe1550850
URL:https://events.org/e/Candy-Crafting-at-Crickets-Candy-Creations/RJB7O5
 K7
BEGIN:VALARM
ACTION:DISPLAY
SUMMARY:Reminder
TRIGGER:-P1D
END:VALARM
END:VEVENT
END:VCALENDAR
