BEGIN:VCALENDAR
METHOD:REQUEST
PRODID:-//events.orgNONSGML ical.net 4.0//EN
VERSION:2.0
BEGIN:VEVENT
DTEND;VALUE=DATE:20260515
DTSTAMP:20260421T121341Z
DTSTART;VALUE=DATE:20260515
LOCATION:The Echo\, Los Angeles
ORGANIZER;CN=:mailto:events@events.org
SEQUENCE:0
SUMMARY:Antony Szmierek with Foliage
UID:cb5e5910-824d-4014-a44c-66e59ec770e6
URL:https://events.org/e/Antony-Szmierek-with-Foliage/F7OY6NPP
BEGIN:VALARM
ACTION:DISPLAY
SUMMARY:Reminder
TRIGGER:-P1D
END:VALARM
END:VEVENT
END:VCALENDAR
