BEGIN:VCALENDAR
METHOD:REQUEST
PRODID:-//events.orgNONSGML ical.net 4.0//EN
VERSION:2.0
BEGIN:VEVENT
DTEND;VALUE=DATE:20260426
DTSTAMP:20260422T084518Z
DTSTART;VALUE=DATE:20260426
LOCATION:The Theater Center\, New York
ORGANIZER;CN=:mailto:events@events.org
SEQUENCE:0
SUMMARY:Singfeld! A Musical About Nothing!
UID:db09c778-d438-497f-9f8d-100345c8f2b9
URL:https://events.org/e/Singfeld-A-Musical-About-Nothing/8KJGUJKR
BEGIN:VALARM
ACTION:DISPLAY
SUMMARY:Reminder
TRIGGER:-P1D
END:VALARM
END:VEVENT
END:VCALENDAR
