BEGIN:VCALENDAR
METHOD:REQUEST
PRODID:-//events.orgNONSGML ical.net 4.0//EN
VERSION:2.0
BEGIN:VEVENT
DTEND;VALUE=DATE:20260625
DTSTAMP:20260424T080429Z
DTSTART;VALUE=DATE:20260625
LOCATION:Underground Arts\, Philadelphia
ORGANIZER;CN=:mailto:events@events.org
SEQUENCE:0
SUMMARY:of Montreal with CorMae (21+ Event)
UID:911d429c-8d63-4eda-aea5-405fca38859d
URL:https://events.org/e/of-Montreal-with-CorMae-21-Event/WTAMT5GL
BEGIN:VALARM
ACTION:DISPLAY
SUMMARY:Reminder
TRIGGER:-P1D
END:VALARM
END:VEVENT
END:VCALENDAR
