BEGIN:VCALENDAR
METHOD:REQUEST
PRODID:-//events.orgNONSGML ical.net 4.0//EN
VERSION:2.0
BEGIN:VEVENT
DTEND;VALUE=DATE:20260604
DTSTAMP:20260424T092209Z
DTSTART;VALUE=DATE:20260604
LOCATION:Thunderbird Lounge\, Phoenix
ORGANIZER;CN=:mailto:events@events.org
SEQUENCE:0
SUMMARY:Loterã­A Thursdays
UID:c0441a00-bf16-464f-8778-60e909f41f14
URL:https://events.org/e/LoteraA-Thursdays/VB6A3KO3
BEGIN:VALARM
ACTION:DISPLAY
SUMMARY:Reminder
TRIGGER:-P1D
END:VALARM
END:VEVENT
END:VCALENDAR
