BEGIN:VCALENDAR
METHOD:REQUEST
PRODID:-//events.orgNONSGML ical.net 4.0//EN
VERSION:2.0
BEGIN:VEVENT
DTEND;VALUE=DATE:20260612
DTSTAMP:20260421T094804Z
DTSTART;VALUE=DATE:20260612
LOCATION:Theatre of Living Arts\, Philadelphia
ORGANIZER;CN=:mailto:events@events.org
SEQUENCE:0
SUMMARY:underscores: Galleria - North American Chapter
UID:50603f89-fe2e-48e0-a65e-78e33b78eacc
URL:https://events.org/e/underscores-Galleria---North-American-Chapter/IXH
 R4HDP
BEGIN:VALARM
ACTION:DISPLAY
SUMMARY:Reminder
TRIGGER:-P1D
END:VALARM
END:VEVENT
END:VCALENDAR
