BEGIN:VCALENDAR
METHOD:REQUEST
PRODID:-//events.orgNONSGML ical.net 4.0//EN
VERSION:2.0
BEGIN:VEVENT
DTEND;VALUE=DATE:20260515
DTSTAMP:20260421T104348Z
DTSTART;VALUE=DATE:20260515
LOCATION:Big Night Live\, Boston
ORGANIZER;CN=:mailto:events@events.org
SEQUENCE:0
SUMMARY:Reggae Bash World ( 21+ )
UID:d1e47d71-f057-443b-a780-d53be9ecc552
URL:https://events.org/e/Reggae-Bash-World-21/9ATDKQDU
BEGIN:VALARM
ACTION:DISPLAY
SUMMARY:Reminder
TRIGGER:-P1D
END:VALARM
END:VEVENT
END:VCALENDAR
