BEGIN:VCALENDAR
METHOD:REQUEST
PRODID:-//events.orgNONSGML ical.net 4.0//EN
VERSION:2.0
BEGIN:VEVENT
DTEND;VALUE=DATE:20260424
DTSTAMP:20260422T091122Z
DTSTART;VALUE=DATE:20260424
LOCATION:Madison Square Garden\, New York
ORGANIZER;CN=:mailto:events@events.org
SEQUENCE:0
SUMMARY:Demi Lovato: It's Not That Deep Tour
UID:17152992-ee08-47a2-92bf-66bd4d655289
URL:https://events.org/e/Demi-Lovato-Its-Not-That-Deep-Tour/UGRYRI3F
BEGIN:VALARM
ACTION:DISPLAY
SUMMARY:Reminder
TRIGGER:-P1D
END:VALARM
END:VEVENT
END:VCALENDAR
