BEGIN:VCALENDAR
METHOD:REQUEST
PRODID:-//events.orgNONSGML ical.net 4.0//EN
VERSION:2.0
BEGIN:VEVENT
DTEND;VALUE=DATE:20260526
DTSTAMP:20260421T095117Z
DTSTART;VALUE=DATE:20260526
LOCATION:Showbox SODO\, Seattle
ORGANIZER;CN=:mailto:events@events.org
SEQUENCE:0
SUMMARY:Chaos & Carnage w/ Thy Art Is Murder
UID:95498dad-5f7f-48dc-8e37-a7944c06c7e9
URL:https://events.org/e/Chaos-Carnage-w-Thy-Art-Is-Murder/WXJPABJL
BEGIN:VALARM
ACTION:DISPLAY
SUMMARY:Reminder
TRIGGER:-P1D
END:VALARM
END:VEVENT
END:VCALENDAR
