BEGIN:VCALENDAR
METHOD:REQUEST
PRODID:-//events.orgNONSGML ical.net 4.0//EN
VERSION:2.0
BEGIN:VEVENT
DTEND;VALUE=DATE:20260703
DTSTAMP:20260421T104640Z
DTSTART;VALUE=DATE:20260703
LOCATION:Pechanga Arena San Diego\, San Diego
ORGANIZER;CN=:mailto:events@events.org
SEQUENCE:0
SUMMARY:ROSALÍA: LUX TOUR 2026
UID:e8d791cc-4019-43e0-b9b8-81c21710a786
URL:https://events.org/e/ROSALIA-LUX-TOUR-2026/ODQ2B4L7
BEGIN:VALARM
ACTION:DISPLAY
SUMMARY:Reminder
TRIGGER:-P1D
END:VALARM
END:VEVENT
END:VCALENDAR
