BEGIN:VCALENDAR
METHOD:REQUEST
PRODID:-//events.orgNONSGML ical.net 4.0//EN
VERSION:2.0
BEGIN:VEVENT
DTEND;VALUE=DATE:20260708
DTSTAMP:20260419T142929Z
DTSTART;VALUE=DATE:20260708
LOCATION:Howard Theatre\, Washington
ORGANIZER;CN=:mailto:events@events.org
SEQUENCE:0
SUMMARY:The Strike plus special guest
UID:0e97fc82-ac22-4257-b90b-96b72e33308b
URL:https://events.org/e/The-Strike-plus-special-guest/48WI9P6F
BEGIN:VALARM
ACTION:DISPLAY
SUMMARY:Reminder
TRIGGER:-P1D
END:VALARM
END:VEVENT
END:VCALENDAR
