BEGIN:VCALENDAR
METHOD:REQUEST
PRODID:-//events.orgNONSGML ical.net 4.0//EN
VERSION:2.0
BEGIN:VEVENT
DTEND;VALUE=DATE:20260517
DTSTAMP:20260422T091051Z
DTSTART;VALUE=DATE:20260517
LOCATION:Crypto.com Arena\, Los Angeles
ORGANIZER;CN=:mailto:events@events.org
SEQUENCE:0
SUMMARY:Los Angeles Sparks vs. Toronto Tempo
UID:737c2bc7-d357-4ea6-b55a-55c34d5493bf
URL:https://events.org/e/Los-Angeles-Sparks-vs-Toronto-Tempo/C82GXRI6
BEGIN:VALARM
ACTION:DISPLAY
SUMMARY:Reminder
TRIGGER:-P1D
END:VALARM
END:VEVENT
END:VCALENDAR
