BEGIN:VCALENDAR
METHOD:REQUEST
PRODID:-//events.orgNONSGML ical.net 4.0//EN
VERSION:2.0
BEGIN:VEVENT
DTEND;VALUE=DATE:20260712
DTSTAMP:20260421T104310Z
DTSTART;VALUE=DATE:20260712
LOCATION:The Observatory North Park\, San Diego
ORGANIZER;CN=:mailto:events@events.org
SEQUENCE:0
SUMMARY:WOLFMOTHER - 20th Anniversary Tour
UID:585c31bc-dd3c-436e-9216-c070432167a3
URL:https://events.org/e/WOLFMOTHER---20th-Anniversary-Tour/HMFTNSX3
BEGIN:VALARM
ACTION:DISPLAY
SUMMARY:Reminder
TRIGGER:-P1D
END:VALARM
END:VEVENT
END:VCALENDAR
