BEGIN:VCALENDAR
METHOD:REQUEST
PRODID:-//events.orgNONSGML ical.net 4.0//EN
VERSION:2.0
BEGIN:VEVENT
DTEND;VALUE=DATE:20260512
DTSTAMP:20260423T153818Z
DTSTART;VALUE=DATE:20260512
LOCATION:Brick and Mortar Music Hall\, San Francisco
ORGANIZER;CN=:mailto:events@events.org
SEQUENCE:0
SUMMARY:Jesse Solomon — Happy To Be Here Tour
UID:3b008ce9-21b2-43eb-8499-95a50482de36
URL:https://events.org/e/Jesse-Solomon---Happy-To-Be-Here-Tour/8GUFMKBX
BEGIN:VALARM
ACTION:DISPLAY
SUMMARY:Reminder
TRIGGER:-P1D
END:VALARM
END:VEVENT
END:VCALENDAR
