BEGIN:VCALENDAR
METHOD:REQUEST
PRODID:-//events.orgNONSGML ical.net 4.0//EN
VERSION:2.0
BEGIN:VEVENT
DTEND;VALUE=DATE:20260629
DTSTAMP:20260419T143041Z
DTSTART;VALUE=DATE:20260629
LOCATION:Crowbar\, Tampa
ORGANIZER;CN=:mailto:events@events.org
SEQUENCE:0
SUMMARY:Subhumans
UID:27c4aeb6-61d5-4359-8f49-0ab23600ce71
URL:https://events.org/e/Subhumans/N3SRYG5K
BEGIN:VALARM
ACTION:DISPLAY
SUMMARY:Reminder
TRIGGER:-P1D
END:VALARM
END:VEVENT
END:VCALENDAR
