BEGIN:VCALENDAR
METHOD:REQUEST
PRODID:-//events.orgNONSGML ical.net 4.0//EN
VERSION:2.0
BEGIN:VEVENT
DTEND;VALUE=DATE:20260529
DTSTAMP:20260424T092107Z
DTSTART;VALUE=DATE:20260529
LOCATION:Chase Field\, Phoenix
ORGANIZER;CN=:mailto:events@events.org
SEQUENCE:0
SUMMARY:Chase Field Stadium Tours
UID:c0fb96eb-cd4b-4a97-a544-31bc9c9ec2f9
URL:https://events.org/e/Chase-Field-Stadium-Tours/4S45IXYI
BEGIN:VALARM
ACTION:DISPLAY
SUMMARY:Reminder
TRIGGER:-P1D
END:VALARM
END:VEVENT
END:VCALENDAR
