BEGIN:VCALENDAR
METHOD:REQUEST
PRODID:-//events.orgNONSGML ical.net 4.0//EN
VERSION:2.0
BEGIN:VEVENT
DTEND;VALUE=DATE:20260517
DTSTAMP:20260424T092741Z
DTSTART;VALUE=DATE:20260517
LOCATION:Bayou Music Center\, Houston
ORGANIZER;CN=:mailto:events@events.org
SEQUENCE:0
SUMMARY:Ahmed Al Basheer: Hallucinations
UID:97bf8e0d-6c7b-43eb-a238-964ed0eaf9e0
URL:https://events.org/e/Ahmed-Al-Basheer-Hallucinations/MEM6CR5F
BEGIN:VALARM
ACTION:DISPLAY
SUMMARY:Reminder
TRIGGER:-P1D
END:VALARM
END:VEVENT
END:VCALENDAR
