BEGIN:VCALENDAR
METHOD:REQUEST
PRODID:-//events.orgNONSGML ical.net 4.0//EN
VERSION:2.0
BEGIN:VEVENT
DTEND;VALUE=DATE:20260605
DTSTAMP:20260421T103725Z
DTSTART;VALUE=DATE:20260605
LOCATION:Denver Improv\, Denver
ORGANIZER;CN=:mailto:events@events.org
SEQUENCE:0
SUMMARY:Mojo Brookzz
UID:25af0767-b335-4bdd-a564-86cf668440b2
URL:https://events.org/e/Mojo-Brookzz/KY9CM8UH
BEGIN:VALARM
ACTION:DISPLAY
SUMMARY:Reminder
TRIGGER:-P1D
END:VALARM
END:VEVENT
END:VCALENDAR
