BEGIN:VCALENDAR
METHOD:REQUEST
PRODID:-//events.orgNONSGML ical.net 4.0//EN
VERSION:2.0
BEGIN:VEVENT
DTEND;VALUE=DATE:20260426
DTSTAMP:20260422T090127Z
DTSTART;VALUE=DATE:20260426
LOCATION:Minskoff Theatre\, New York
ORGANIZER;CN=:mailto:events@events.org
SEQUENCE:0
SUMMARY:The Lion King (New York\, NY)
UID:4d597b7b-f346-4f71-8a9a-a649df247f6e
URL:https://events.org/e/The-Lion-King-New-York-NY/6LK6X52P
BEGIN:VALARM
ACTION:DISPLAY
SUMMARY:Reminder
TRIGGER:-P1D
END:VALARM
END:VEVENT
END:VCALENDAR
